BEGIN:VCALENDAR
VERSION:2.0
PRODID:-//ChamberMaster//Event Calendar 2.0//EN
METHOD:PUBLISH
X-PUBLISHED-TTL:P3D
REFRESH-INTERVAL:P3D
CALSCALE:GREGORIAN
BEGIN:VEVENT
DTSTART:20250522T153000Z
DTEND:20250522T170000Z
X-MICROSOFT-CDO-ALLDAYEVENT:FALSE
SUMMARY:Women's Business Network: May
DESCRIPTION:The "Women's Business Network" aims to create a supportive community for female business owners through a series of gatherings. Held at the Chapin Chamber of Commerce\, these casual meet-ups will focus on key topics such as Leadership\, Innovation and Creativity\, Self-Management\, and Strategy. Each gathering will feature discussions inspired by influential women like Sara Blakely and Joanna Gaines\, along with insights from current business literature. Participants will enjoy light refreshments while exploring practical strategies\, sharing experiences\, and encouraging one another in balancing the complexities of business\, family\, faith\, and personal growth. This initiative seeks to encourage women through fellowship and collaboration\, fostering a vibrant network of support within the community. Hosted by Holly Hayes of ISI Consulting.
X-ALT-DESC;FMTTYPE=text/html:<p><strong><span style="color:#000000\;"><span --darkreader-inline-bgcolor:="" background-color:="" data-darkreader-inline-bgcolor="" font-size:="" google="" style="font-family: " white-space-collapse:="">The &quot\;Women&rsquo\;s Business Network&quot\; aims to create a supportive community for female business owners through a series of gatherings. Held at the Chapin Chamber of Commerce\, these casual meet-ups will focus on key topics such as Leadership\, Innovation and Creativity\, Self-Management\, and Strategy. Each gathering will feature discussions inspired by influential women like Sara Blakely and Joanna Gaines\, along with insights from current business literature. Participants will enjoy light refreshments while exploring practical strategies\, sharing experiences\, and encouraging one another in balancing the complexities of business\, family\, faith\, and personal growth. This initiative seeks to encourage women through fellowship and collaboration\, fostering a vibrant network of support within the community. Hosted by Holly Hayes of ISI Consulting.</span></span></strong></p>\n
LOCATION:302 Columbia Ave\, Chapin SC
UID:e.1644.6646
SEQUENCE:3
DTSTAMP:20260424T193351Z
URL:http://dev.chapinchamber.com/events/details/women-s-business-network-may-6646
END:VEVENT

END:VCALENDAR
