BEGIN:VCALENDAR
VERSION:2.0
PRODID:-//ChamberMaster//Event Calendar 2.0//EN
METHOD:PUBLISH
X-PUBLISHED-TTL:P3D
REFRESH-INTERVAL:P3D
CALSCALE:GREGORIAN
BEGIN:VEVENT
DTSTART:20250828T153000Z
DTEND:20250828T170000Z
X-MICROSOFT-CDO-ALLDAYEVENT:FALSE
SUMMARY:Women's Business Network: August
DESCRIPTION:The "Women's Business Network" aims to create a supportive community for female business owners through a series of gatherings. These casual meet-ups will focus on key topics such as Leadership\, Innovation and Creativity\, Strategy\, and more! Each gathering will feature discussions inspired by influential women like Sara Blakely and Joanna Gaines\, along with insights from current business literature. Enjoy light refreshments while exploring strategies\, sharing experiences\, & encouraging each other in balancing business\, family\, faith\, & personal growth. Hosted by Holly Hayes of ISI Consulting!
X-ALT-DESC;FMTTYPE=text/html:<table border="0" cellpadding="0" cellspacing="0" class="text text--article text--padding-vertical" style="table-layout: fixed\; color: rgb(0\, 0\, 0)\; font-family: &quot\;Times New Roman&quot\;\; font-size: medium\;" width="100%">\n	<tbody>\n		<tr>\n			<td align="left" class="text_content-cell content-padding-horizontal" style="padding: 10px 40px\; font-family: &quot\;Open Sans&quot\;\, sans-serif\; color: rgb(118\, 118\, 118)\; font-size: 15px\; line-height: 1.5\; display: block\; overflow-wrap: break-word\; -webkit-font-smoothing: antialiased\;" valign="top">\n			<p style="margin: 0px\; padding: 0px\;">The &quot\;Women&rsquo\;s Business Network&quot\; aims to create a supportive community for female business owners through a series of gatherings. These casual meet-ups will focus on key topics such as Leadership\, Innovation and Creativity\, Strategy\, and more! Each gathering will feature discussions inspired by influential women like Sara Blakely and Joanna Gaines\, along with insights from current business literature. Enjoy light refreshments while exploring strategies\, sharing experiences\, &amp\; encouraging each other in balancing business\, family\, faith\, &amp\; personal growth. Hosted by Holly Hayes of ISI Consulting!</p>\n\n			<div>&nbsp\;</div>\n			</td>\n		</tr>\n	</tbody>\n</table>\n
LOCATION:The Greater Chapin Chamber of Commerce 302 Columbia Ave\, Chapin\, SC 29036
UID:e.1644.6660
SEQUENCE:3
DTSTAMP:20260424T141844Z
URL:http://dev.chapinchamber.com/events/details/women-s-business-network-august-6660
END:VEVENT

END:VCALENDAR
