BEGIN:VCALENDAR
VERSION:2.0
PRODID:-//ChamberMaster//Event Calendar 2.0//EN
METHOD:PUBLISH
X-PUBLISHED-TTL:P3D
REFRESH-INTERVAL:P3D
CALSCALE:GREGORIAN
BEGIN:VEVENT
DTSTART:20231025T210000Z
DTEND:20231025T220000Z
X-MICROSOFT-CDO-ALLDAYEVENT:FALSE
SUMMARY:Wendy Lee Ribbon Cutting
DESCRIPTION:Chapin Hormone and Wellness\, LLC
X-ALT-DESC;FMTTYPE=text/html:Chapin Hormone and Wellness\, LLC
LOCATION:Chapin Chamber of Commerce
UID:e.1644.5319
SEQUENCE:3
DTSTAMP:20260426T023602Z
URL:http://dev.chapinchamber.com/events/details/wendy-lee-ribbon-cutting-5319
END:VEVENT

END:VCALENDAR
