BEGIN:VCALENDAR
VERSION:2.0
PRODID:-//ChamberMaster//Event Calendar 2.0//EN
METHOD:PUBLISH
X-PUBLISHED-TTL:P3D
REFRESH-INTERVAL:P3D
CALSCALE:GREGORIAN
BEGIN:VEVENT
DTSTART:20240225T210000Z
DTEND:20240225T230000Z
X-MICROSOFT-CDO-ALLDAYEVENT:FALSE
SUMMARY:VALENTINES FOREVER: DANCE IS IN THE AIR!
DESCRIPTION:Palmetto Chamber Orchestra presents VALENTINES FOREVER: DANCE IS IN THE AIR! - a romantic journey through dance music of Arensky\, J. Strauss (father and son)\, Bizet\, Layadov\, Chopin\, Tchaikovsky and more. The program is fun\, educational and accessible to everyone. Bring a friend\, spread the word! Not to be missed. General admission: $15\, VIP- $25\, Students with ID - $5 Cash or check at the door -------------- I love you for a lifetime\, Not only for a day. I love you for who you are\, Not what you do or say. I love the way you love me back\, So there is only one thing I can say. I love you with my heart and soul and every other way\, So will you be my valentine not only for one day? -Belinda Galea
X-ALT-DESC;FMTTYPE=text/html:Palmetto Chamber Orchestra presents VALENTINES FOREVER: DANCE IS IN THE AIR! - a romantic journey through dance music of Arensky\, J. Strauss (father and son)\, Bizet\, Layadov\, Chopin\, Tchaikovsky and more. The program is fun\, educational and accessible to everyone. Bring a friend\, spread the word! Not to be missed. General admission: $15\, VIP- $25\, Students with ID - $5 Cash or check at the door -------------- I love you for a lifetime\, Not only for a day. I love you for who you are\, Not what you do or say. I love the way you love me back\, So there is only one thing I can say. I love you with my heart and soul and every other way\, So will you be my valentine not only for one day? -Belinda Galea
LOCATION:Incarnation Lutheran Church 3005 Devine Street Columbia SC
UID:e.1644.5348
SEQUENCE:3
DTSTAMP:20260425T211914Z
URL:http://dev.chapinchamber.com/events/details/valentines-forever-dance-is-in-the-air-5348
END:VEVENT

END:VCALENDAR
