BEGIN:VCALENDAR
VERSION:2.0
PRODID:-//ChamberMaster//Event Calendar 2.0//EN
METHOD:PUBLISH
X-PUBLISHED-TTL:P3D
REFRESH-INTERVAL:P3D
CALSCALE:GREGORIAN
BEGIN:VEVENT
DTSTART:20240821T153000Z
DTEND:20240821T170000Z
X-MICROSOFT-CDO-ALLDAYEVENT:FALSE
SUMMARY:The Blood Connection-Blood Drive
DESCRIPTION:Please join us with The Blood Connection and give the gift of life.
X-ALT-DESC;FMTTYPE=text/html:<br />\n<br />\nPlease join us with The Blood Connection and give the gift of life.
LOCATION:The Greater Chapin Chamber of Commerce 302 Columbia Ave. Chapin\, SC 29036
UID:e.1644.5763
SEQUENCE:3
DTSTAMP:20260425T104210Z
URL:http://dev.chapinchamber.com/events/details/the-blood-connection-blood-drive-5763
END:VEVENT

END:VCALENDAR
