BEGIN:VCALENDAR
VERSION:2.0
PRODID:-//ChamberMaster//Event Calendar 2.0//EN
METHOD:PUBLISH
X-PUBLISHED-TTL:P3D
REFRESH-INTERVAL:P3D
CALSCALE:GREGORIAN
BEGIN:VEVENT
DTSTART:20240419T233000Z
DTEND:20240505T210000Z
X-MICROSOFT-CDO-ALLDAYEVENT:FALSE
SUMMARY:The Amorous Ambassador
DESCRIPTION:SYNOPSIS: "Hormone" Harry Douglas from Sensuous Senator is back to his old shenanigans but now he's across the pond as the US Ambassador to Great Britain. And it seems this time everyone is in on the fun. This farce is complete with a lot of doors\, disguises\, and mistaken identities.
X-ALT-DESC;FMTTYPE=text/html:SYNOPSIS:&nbsp\;&quot\;Hormone&quot\; Harry Douglas from Sensuous Senator is back to his old shenanigans but now he&#39\;s across the pond as the US Ambassador to Great Britain. And it seems this time everyone is in on the fun. This farce is complete with a lot of doors\, disguises\, and mistaken identities.
LOCATION:Chapin Theatre Company\, 830 Columbia Ave\, Chapin\, SC 29036
UID:e.1644.5351
SEQUENCE:3
DTSTAMP:20260425T140601Z
URL:http://dev.chapinchamber.com/events/details/the-amorous-ambassador-5351
END:VEVENT

END:VCALENDAR
