BEGIN:VCALENDAR
VERSION:2.0
PRODID:-//ChamberMaster//Event Calendar 2.0//EN
METHOD:PUBLISH
X-PUBLISHED-TTL:P3D
REFRESH-INTERVAL:P3D
CALSCALE:GREGORIAN
BEGIN:VEVENT
DTSTART:20250319T233000Z
DTEND:20250320T010000Z
X-MICROSOFT-CDO-ALLDAYEVENT:FALSE
SUMMARY:Stilt Girl goes to Baltimore
DESCRIPTION:Stilt Girl goes to Baltimore! Dress Rehearsal and CastKick-off Fundraiser. Complete with Belly Dancing! The cast leaves the next day to perform in Regional competition in Baltimore.
X-ALT-DESC;FMTTYPE=text/html:Stilt Girl goes to Baltimore! Dress Rehearsal and CastKick-off Fundraiser. Complete with Belly Dancing! The cast leaves the next day to perform in Regional competition in Baltimore.
LOCATION:Chapin Theatre Company\, 830 Columbia Ave\, Chapin\, SC 29036
UID:e.1644.6631
SEQUENCE:3
DTSTAMP:20260424T212725Z
URL:http://dev.chapinchamber.com/events/details/stilt-girl-goes-to-baltimore-6631
END:VEVENT

END:VCALENDAR
