BEGIN:VCALENDAR
VERSION:2.0
PRODID:-//ChamberMaster//Event Calendar 2.0//EN
METHOD:PUBLISH
X-PUBLISHED-TTL:P3D
REFRESH-INTERVAL:P3D
CALSCALE:GREGORIAN
BEGIN:VEVENT
DTSTART:20240117T170000Z
DTEND:20240117T180000Z
X-MICROSOFT-CDO-ALLDAYEVENT:FALSE
SUMMARY:Stephenson Property Group Ribbon Cutting
DESCRIPTION:Join us for the Stephenson Property Group Ribbon Cutting here at the Greater Chapin Chamber on January 17th from noon til 1pm.  Enjoy a light lunch after we cut the ribbon.
X-ALT-DESC;FMTTYPE=text/html:Join us for the Stephenson Property Group Ribbon Cutting here at the Greater Chapin Chamber on January 17th from noon til 1pm.&nbsp\; Enjoy a light lunch after we cut the ribbon.&nbsp\;
LOCATION:The Greater Chapin Chamber of Commerce 302 Columbia Ave. Chapin\, SC 29036
UID:e.1644.5339
SEQUENCE:3
DTSTAMP:20260425T213225Z
URL:http://dev.chapinchamber.com/events/details/stephenson-property-group-ribbon-cutting-5339
END:VEVENT

END:VCALENDAR
