BEGIN:VCALENDAR
VERSION:2.0
PRODID:-//ChamberMaster//Event Calendar 2.0//EN
METHOD:PUBLISH
X-PUBLISHED-TTL:P3D
REFRESH-INTERVAL:P3D
CALSCALE:GREGORIAN
BEGIN:VEVENT
DTSTART:20240822T233000Z
DTEND:20240825T013000Z
X-MICROSOFT-CDO-ALLDAYEVENT:FALSE
SUMMARY:So Long Roscoe
DESCRIPTION:Roscoe has driven his Texas farm into the ground and his long suffering wife\, Lilly Rose\, just wants to get out of town! But things take a drastic turn when her two older sisters Dixie Rain and Bella Sky\, drop by to "help"! But when a mysterious World War II military motorcycle -complete with a sidecar   arrives\,  the entire situation goes into hysterical chaos!
X-ALT-DESC;FMTTYPE=text/html:Roscoe has driven his Texas farm into the ground and his long suffering wife\, Lilly Rose\, just wants to get out of town! But things take a drastic turn when her two older sisters Dixie Rain and Bella Sky\, drop by to &ldquo\;help&rdquo\;! But when a mysterious World War II military motorcycle -complete with a sidecar &ndash\; arrives\,&nbsp\; the entire situation goes into hysterical chaos!
LOCATION:Chapin Theatre COmpany\, 830 Columbia Ave\, Chapin\, SC 29036
UID:e.1644.5747
SEQUENCE:3
DTSTAMP:20260425T103043Z
URL:http://dev.chapinchamber.com/events/details/so-long-roscoe-5747
END:VEVENT

END:VCALENDAR
