BEGIN:VCALENDAR
VERSION:2.0
PRODID:-//ChamberMaster//Event Calendar 2.0//EN
METHOD:PUBLISH
X-PUBLISHED-TTL:P3D
REFRESH-INTERVAL:P3D
CALSCALE:GREGORIAN
BEGIN:VEVENT
DTSTART:20231019T203000Z
DTEND:20231019T213000Z
X-MICROSOFT-CDO-ALLDAYEVENT:FALSE
SUMMARY:Ribbon One Ribbon Cutting Grand Opening
DESCRIPTION:Grand Opening at 3:30 Ribbon cutting at 4:30
X-ALT-DESC;FMTTYPE=text/html:Grand Opening at 3:30 Ribbon cutting at 4:30
LOCATION:906 Chapin Road Chapin
UID:e.1644.5320
SEQUENCE:3
DTSTAMP:20260426T024216Z
URL:http://dev.chapinchamber.com/events/details/ribbon-one-ribbon-cutting-grand-opening-5320
END:VEVENT

END:VCALENDAR
