BEGIN:VCALENDAR
VERSION:2.0
PRODID:-//ChamberMaster//Event Calendar 2.0//EN
METHOD:PUBLISH
X-PUBLISHED-TTL:P3D
REFRESH-INTERVAL:P3D
CALSCALE:GREGORIAN
BEGIN:VEVENT
DTSTART:20240711T150000Z
DTEND:20240711T160000Z
X-MICROSOFT-CDO-ALLDAYEVENT:FALSE
SUMMARY:Ribbon Cutting: Your Health
DESCRIPTION:Come join us on July 11th at 11am to celebrate with Your Health on their grand opening on their Chapin location.
X-ALT-DESC;FMTTYPE=text/html:<br />\n<br />\nCome join us on July 11th at 11am to celebrate with Your Health on their grand opening on their Chapin location.&nbsp\;&nbsp\;
LOCATION:500 Lexington Ave. Chapin\, SC 29036
UID:e.1644.5751
SEQUENCE:3
DTSTAMP:20260425T122111Z
URL:http://dev.chapinchamber.com/events/details/ribbon-cutting-your-health-5751
END:VEVENT

END:VCALENDAR
