BEGIN:VCALENDAR
VERSION:2.0
PRODID:-//ChamberMaster//Event Calendar 2.0//EN
METHOD:PUBLISH
X-PUBLISHED-TTL:P3D
REFRESH-INTERVAL:P3D
CALSCALE:GREGORIAN
BEGIN:VEVENT
DTSTART:20250320T200000Z
DTEND:20250320T220000Z
X-MICROSOFT-CDO-ALLDAYEVENT:FALSE
SUMMARY:Ribbon Cutting: Tipsy Toad 5 Year Anniversary
DESCRIPTION:Ribbon Cutting Celebrating the Tipsy Toad's 5 Year Anniversary!
X-ALT-DESC;FMTTYPE=text/html:Ribbon Cutting Celebrating the Tipsy Toad&#39\;s 5 Year Anniversary!
LOCATION:The Tipsy Toad Tavern
UID:e.1644.6630
SEQUENCE:3
DTSTAMP:20260424T225548Z
URL:http://dev.chapinchamber.com/events/details/ribbon-cutting-tipsy-toad-5-year-anniversary-6630
END:VEVENT

END:VCALENDAR
