BEGIN:VCALENDAR
VERSION:2.0
PRODID:-//ChamberMaster//Event Calendar 2.0//EN
METHOD:PUBLISH
X-PUBLISHED-TTL:P3D
REFRESH-INTERVAL:P3D
CALSCALE:GREGORIAN
BEGIN:VEVENT
DTSTART:20230926T213000Z
DTEND:20230926T230000Z
X-MICROSOFT-CDO-ALLDAYEVENT:FALSE
SUMMARY:Ribbon Cutting The Venue at Black Grove
DESCRIPTION:
X-ALT-DESC;FMTTYPE=text/html:
LOCATION:20751 US 76 Newberry SC 29108
UID:e.1644.5316
SEQUENCE:3
DTSTAMP:20260426T040840Z
URL:http://dev.chapinchamber.com/events/details/ribbon-cutting-the-venue-at-black-grove-5316
END:VEVENT

END:VCALENDAR
