BEGIN:VCALENDAR
VERSION:2.0
PRODID:-//ChamberMaster//Event Calendar 2.0//EN
METHOD:PUBLISH
X-PUBLISHED-TTL:P3D
REFRESH-INTERVAL:P3D
CALSCALE:GREGORIAN
BEGIN:VEVENT
DTSTART:20240611T200000Z
DTEND:20240611T210000Z
X-MICROSOFT-CDO-ALLDAYEVENT:FALSE
SUMMARY:Ribbon Cutting: The Classy Cruet
DESCRIPTION:Join us as we celebrate with The Class Cruet!  They've opened in a new location in Chapin and are having a Ribbon Cutting!
X-ALT-DESC;FMTTYPE=text/html:Join us as we celebrate with The Class Cruet!&nbsp\; They&#39\;ve opened in a new location in Chapin and are having a Ribbon Cutting!&nbsp\;
LOCATION:130 Amicks Ferry Road Chapin\, SC 29036
UID:e.1644.5739
SEQUENCE:3
DTSTAMP:20260425T123726Z
URL:http://dev.chapinchamber.com/events/details/ribbon-cutting-the-classy-cruet-5739
END:VEVENT

END:VCALENDAR
