BEGIN:VCALENDAR
VERSION:2.0
PRODID:-//ChamberMaster//Event Calendar 2.0//EN
METHOD:PUBLISH
X-PUBLISHED-TTL:P3D
REFRESH-INTERVAL:P3D
CALSCALE:GREGORIAN
BEGIN:VEVENT
DTSTART:20250731T200000Z
DTEND:20250731T210000Z
X-MICROSOFT-CDO-ALLDAYEVENT:FALSE
SUMMARY:Ribbon Cutting - Peak Nutrition
DESCRIPTION:
X-ALT-DESC;FMTTYPE=text/html:
LOCATION:11107 Broad River Road Suite Q\, Irmo SC 29063
UID:e.1644.6648
SEQUENCE:3
DTSTAMP:20260424T141833Z
URL:http://dev.chapinchamber.com/events/details/ribbon-cutting-peak-nutrition-6648
END:VEVENT

END:VCALENDAR
