BEGIN:VCALENDAR
VERSION:2.0
PRODID:-//ChamberMaster//Event Calendar 2.0//EN
METHOD:PUBLISH
X-PUBLISHED-TTL:P3D
REFRESH-INTERVAL:P3D
CALSCALE:GREGORIAN
BEGIN:VEVENT
DTSTART:20241106T170000Z
DTEND:20241106T180000Z
X-MICROSOFT-CDO-ALLDAYEVENT:FALSE
SUMMARY:Ribbon Cutting: Palmetto Thrift - Chapin
DESCRIPTION:Join us for a ribbon cutting ceremony for on Thursday\, November 6\, 2024 for 12pm.
X-ALT-DESC;FMTTYPE=text/html:Join us for a ribbon cutting ceremony for on Thursday\, November 6\, 2024 for 12pm.
LOCATION:Palmetto Thrift - Chapin 1304 Chapin Rd. Chapin\, SC 29036
UID:e.1644.5765
SEQUENCE:3
DTSTAMP:20260425T040201Z
URL:http://dev.chapinchamber.com/events/details/ribbon-cutting-palmetto-thrift-chapin-5765
END:VEVENT

END:VCALENDAR
