BEGIN:VCALENDAR
VERSION:2.0
PRODID:-//ChamberMaster//Event Calendar 2.0//EN
METHOD:PUBLISH
X-PUBLISHED-TTL:P3D
REFRESH-INTERVAL:P3D
CALSCALE:GREGORIAN
BEGIN:VEVENT
DTSTART:20240417T150000Z
DTEND:20240417T170000Z
X-MICROSOFT-CDO-ALLDAYEVENT:FALSE
SUMMARY:Ribbon Cutting: Collins Cove Model Home Grand Opening
DESCRIPTION:Join us for the Ribbon Cutting on the brand new model home at Collins Cove!
X-ALT-DESC;FMTTYPE=text/html:Join us for the Ribbon Cutting on the brand new model home at Collins Cove!&nbsp\;&nbsp\;
LOCATION:207 Murray Falls Lane Chapin\, SC 29036
UID:e.1644.5604
SEQUENCE:3
DTSTAMP:20260425T161037Z
URL:http://dev.chapinchamber.com/events/details/ribbon-cutting-collins-cove-model-home-grand-opening-5604
END:VEVENT

END:VCALENDAR
