BEGIN:VCALENDAR
VERSION:2.0
PRODID:-//ChamberMaster//Event Calendar 2.0//EN
METHOD:PUBLISH
X-PUBLISHED-TTL:P3D
REFRESH-INTERVAL:P3D
CALSCALE:GREGORIAN
BEGIN:VEVENT
DTSTART:20251001T203000Z
DTEND:20251001T210000Z
X-MICROSOFT-CDO-ALLDAYEVENT:FALSE
SUMMARY:Ribbon Cutting: Carolina Face & Body
DESCRIPTION:Join us in celebrating the grand opening of Carolina Face & Body on October 1st with a Ribbon Cutting!
X-ALT-DESC;FMTTYPE=text/html:<table border="0" cellpadding="0" cellspacing="0" class="text text--article text--padding-vertical" style="table-layout: fixed\; color: rgb(0\, 0\, 0)\; font-family: &quot\;Times New Roman&quot\;\; font-size: medium\;" width="100%">\n	<tbody>\n		<tr>\n			<td align="left" class="text_content-cell content-padding-horizontal" style="padding: 10px 40px\; font-family: &quot\;Open Sans&quot\;\, sans-serif\; color: rgb(118\, 118\, 118)\; font-size: 15px\; line-height: 1.5\; display: block\; overflow-wrap: break-word\; -webkit-font-smoothing: antialiased\;" valign="top">\n			<p style="margin: 0px\; padding: 0px\;">Join us in celebrating the grand opening of Carolina Face &amp\; Body on October 1st with a Ribbon Cutting!</p>\n\n			<div>&nbsp\;</div>\n			</td>\n		</tr>\n	</tbody>\n</table>\n
LOCATION:Carolina Face & Body 927 Chapin Rd\, Chapin\, SC 29036
UID:e.1644.6673
SEQUENCE:3
DTSTAMP:20260424T091913Z
URL:http://dev.chapinchamber.com/events/details/ribbon-cutting-carolina-face-body-6673
END:VEVENT

END:VCALENDAR
