BEGIN:VCALENDAR
VERSION:2.0
PRODID:-//ChamberMaster//Event Calendar 2.0//EN
METHOD:PUBLISH
X-PUBLISHED-TTL:P3D
REFRESH-INTERVAL:P3D
CALSCALE:GREGORIAN
BEGIN:VEVENT
DTSTART:20240828T210000Z
DTEND:20240828T223000Z
X-MICROSOFT-CDO-ALLDAYEVENT:FALSE
SUMMARY:Ribbon Cutting: Canopy Financial Group - Thrivent Financial
DESCRIPTION:Join us as we welcome Canopy Financial Group - Thrivent Financial to the Greater Chapin Chamber of Commerce!
X-ALT-DESC;FMTTYPE=text/html:<br />\n<br />\nJoin us as we welcome Canopy Financial Group - Thrivent Financial to the Greater Chapin Chamber of Commerce!&nbsp\;
LOCATION:The Ribbon Cutting will be held at our office at 302 Columbia Avenue\, Chapin\, SC 29036
UID:e.1644.5744
SEQUENCE:3
DTSTAMP:20260425T104318Z
URL:http://dev.chapinchamber.com/events/details/ribbon-cutting-canopy-financial-group-thrivent-financial-5744
END:VEVENT

END:VCALENDAR
