BEGIN:VCALENDAR
VERSION:2.0
PRODID:-//ChamberMaster//Event Calendar 2.0//EN
METHOD:PUBLISH
X-PUBLISHED-TTL:P3D
REFRESH-INTERVAL:P3D
CALSCALE:GREGORIAN
BEGIN:VEVENT
DTSTART;VALUE=DATE:20250906
DTEND;VALUE=DATE:20250907
TRANSP:TRANSPARENT
X-MICROSOFT-CDO-ALLDAYEVENT:TRUE
SUMMARY:Queen Bees 10U Softball Carwash
DESCRIPTION:
X-ALT-DESC;FMTTYPE=text/html:
LOCATION:302 Columbia Avenue
UID:e.1644.6664
SEQUENCE:3
DTSTAMP:20260424T111707Z
URL:http://dev.chapinchamber.com/events/details/queen-bees-10u-softball-carwash-6664
END:VEVENT

END:VCALENDAR
