BEGIN:VCALENDAR
VERSION:2.0
PRODID:-//ChamberMaster//Event Calendar 2.0//EN
METHOD:PUBLISH
X-PUBLISHED-TTL:P3D
REFRESH-INTERVAL:P3D
CALSCALE:GREGORIAN
BEGIN:VEVENT
DTSTART:20240313T150000Z
DTEND:20240313T160000Z
X-MICROSOFT-CDO-ALLDAYEVENT:FALSE
SUMMARY:Palmetto Fine Arts 20th Anniversary Ribbon Cutting Celebration
DESCRIPTION:
X-ALT-DESC;FMTTYPE=text/html:
LOCATION:PFA 140-E Amicks Ferry Road Chapin\, SC 29036
UID:e.1644.5591
SEQUENCE:3
DTSTAMP:20260425T173717Z
URL:http://dev.chapinchamber.com/events/details/palmetto-fine-arts-20th-anniversary-ribbon-cutting-celebration-5591
END:VEVENT

END:VCALENDAR
