BEGIN:VCALENDAR
VERSION:2.0
PRODID:-//ChamberMaster//Event Calendar 2.0//EN
METHOD:PUBLISH
X-PUBLISHED-TTL:P3D
REFRESH-INTERVAL:P3D
CALSCALE:GREGORIAN
BEGIN:VEVENT
DTSTART:20240824T233000Z
DTEND:20240825T010000Z
X-MICROSOFT-CDO-ALLDAYEVENT:FALSE
SUMMARY:ONCE UPON A TIME IN THE LAND OF AMORE
DESCRIPTION:Classical meets Pop/Rock and Bluegrass at the Harbison Theatre on August 24\, 2024\, as Walter Hemingway\, the lead singer from "The Root Doctors" and Nahi Gruv\," Brittany Martin\, Soprano\, and "Carolina Bluegrass Style" join Ensemble Eclectica! in presenting "Once Upon a Time in the Land of Amore". Roxana Marinoff and Cesar Davalos\, Sheila Brown\, and Eric S. Blair Robles interpret the dance of love. Noted singer\, actor and dancer\, Tracy Steele\, will be the Master of Ceremonies "Love will be in the air" is the way Maestra Suzanna Pavlovsky\, CEO and Artistic Director of Ensemble Eclectica! describes the program. Over 3 hours of creative entertainment! Experience the Arts with someone you love even if that someone is yourself." THE EVENING WILL FEATURE: 6:30pm: Pre-show entertainment by Carolina Bluegrass Style and an Artwork exhibit. 7:30pm: Ensemble Eclectica! presents its new signature production\, Once Upon a Time in the Land of Amore! featuring: 15 piece orchestra A delightful EMCEE Dancers Vocalists Multimedia And so much more!
X-ALT-DESC;FMTTYPE=text/html:Classical meets Pop/Rock and Bluegrass at the Harbison Theatre on August 24\, 2024\, as Walter Hemingway\, the lead singer from &quot\;The Root Doctors&quot\; and Nahi Gruv\,&rdquo\; Brittany Martin\, Soprano\, and &quot\;Carolina Bluegrass Style&quot\; join Ensemble Eclectica! in presenting &quot\;Once Upon a Time in the Land of Amore&quot\;. Roxana Marinoff and Cesar Davalos\, Sheila Brown\, and Eric S. Blair Robles interpret the dance of love. Noted singer\, actor and dancer\, Tracy Steele\, will be the Master of Ceremonies &quot\;Love will be in the air&quot\; is the way Maestra Suzanna Pavlovsky\, CEO and Artistic Director of Ensemble Eclectica! describes the program. Over 3 hours of creative entertainment! Experience the Arts with someone you love even if that someone is yourself.&quot\; THE EVENING WILL FEATURE: 6:30pm: Pre-show entertainment by Carolina Bluegrass Style and an Artwork exhibit. 7:30pm: Ensemble Eclectica! presents its new signature production\, Once Upon a Time in the Land of Amore! featuring: 15 piece orchestra A delightful EMCEE Dancers Vocalists Multimedia And so much more!
LOCATION:Harbison Theatre at Midlands Tech 7300 College Drive Irmo\, SC
UID:e.1644.5764
SEQUENCE:3
DTSTAMP:20260425T104338Z
URL:http://dev.chapinchamber.com/events/details/once-upon-a-time-in-the-land-of-amore-5764
END:VEVENT

END:VCALENDAR
