BEGIN:VCALENDAR
VERSION:2.0
PRODID:-//ChamberMaster//Event Calendar 2.0//EN
METHOD:PUBLISH
X-PUBLISHED-TTL:P3D
REFRESH-INTERVAL:P3D
CALSCALE:GREGORIAN
BEGIN:VEVENT
DTSTART:20231109T183000Z
DTEND:20231109T193000Z
X-MICROSOFT-CDO-ALLDAYEVENT:FALSE
SUMMARY:Old Town Hall Ribbon Cutting
DESCRIPTION:Join us for the opening of the Old Town Hall.  See all the work the Chapin Historical Society has done to bring this building back to life!
X-ALT-DESC;FMTTYPE=text/html:Join us for the opening of the Old Town Hall.&nbsp\; See all the work the Chapin Historical Society has done to bring this building back to life!&nbsp\;
LOCATION:Lexington Ave. Chapin\, SC 29036 Across from the American Legion
UID:e.1644.5332
SEQUENCE:3
DTSTAMP:20260426T005323Z
URL:http://dev.chapinchamber.com/events/details/old-town-hall-ribbon-cutting-5332
END:VEVENT

END:VCALENDAR
