BEGIN:VCALENDAR
VERSION:2.0
PRODID:-//ChamberMaster//Event Calendar 2.0//EN
METHOD:PUBLISH
X-PUBLISHED-TTL:P3D
REFRESH-INTERVAL:P3D
CALSCALE:GREGORIAN
BEGIN:VEVENT
DTSTART:20240809T130000Z
DTEND:20240809T140000Z
X-MICROSOFT-CDO-ALLDAYEVENT:FALSE
SUMMARY:New Chamber Partner Orientation - Chamber 101
DESCRIPTION:Join us on Friday\, August 9\, 2024 to learn more about your chamber and how you can utilize your partner benefits to the fullest.
X-ALT-DESC;FMTTYPE=text/html:<br />\n<br />\n<span style="color: rgb(118\, 118\, 118)\; font-family: &quot\;Open Sans&quot\;\, sans-serif\; font-size: 15px\; background-color: rgb(255\, 255\, 255)\;">Join us on Friday\, August 9\, 2024 to learn more about your chamber and how you can utilize your partner benefits to the fullest.</span>
LOCATION:302 Columbia Ave. Chapin\, SC 29036
UID:e.1644.5766
SEQUENCE:3
DTSTAMP:20260425T103433Z
URL:http://dev.chapinchamber.com/events/details/new-chamber-partner-orientation-chamber-101-5766
END:VEVENT

END:VCALENDAR
