BEGIN:VCALENDAR
VERSION:2.0
PRODID:-//ChamberMaster//Event Calendar 2.0//EN
METHOD:PUBLISH
X-PUBLISHED-TTL:P3D
REFRESH-INTERVAL:P3D
CALSCALE:GREGORIAN
BEGIN:VEVENT
DTSTART:20251026T200000Z
DTEND:20251026T220000Z
X-MICROSOFT-CDO-ALLDAYEVENT:FALSE
SUMMARY:Moonlit Dreams and Adventures
DESCRIPTION:Join us for the opening of the 2025-26 exciting season- a special celebration of Palmetto Chamber Orchestra's 10th anniversary as we take you on a musical journey through sound of dreams and thrilling adventures\, and Masquerade experiences. The concert's highlights include: Gounod's "Funeral March of the Marionettes\," a haunting and theatrical piece that sets the tone for an eerie adventure into the unknown\; Faure's "Bergamasque Suite\," a lively and folk-inspired composition that evokes the spirit of a serene moonlit countryside. Experience the delicate tones of Franz Strauss' "Nocturne" for French Horn and Chamber Orchestra\, an exquisite serenade that invites listeners into a world of nocturnal imagery and dreams. The highlight of the evening will be the world premiere of "Behind the Mask\," a captivating suite by TJ Huggins exploring themes of mystery and transformation\, promising to leave you spellbound. Dress Code: Embrace the spirit of dreams and adventures by coming in costume or wearing a mask to become part of the theatrical experience! Don't miss this unforgettable experience full of excitement and lasting memories. Concert is FREE to the public\, donations are suggested and appreciated.
X-ALT-DESC;FMTTYPE=text/html:Join us for the opening of the 2025-26 exciting season- a special celebration of Palmetto Chamber Orchestra&#39\;s 10th anniversary as we take you on a musical journey through sound of dreams and thrilling adventures\, and Masquerade experiences. The concert&#39\;s highlights include: Gounod&#39\;s &ldquo\;Funeral March of the Marionettes\,&rdquo\; a haunting and theatrical piece that sets the tone for an eerie adventure into the unknown\; Faure&#39\;s &ldquo\;Bergamasque Suite\,&rdquo\; a lively and folk-inspired composition that evokes the spirit of a serene moonlit countryside. Experience the delicate tones of Franz Strauss&#39\; &ldquo\;Nocturne&rdquo\; for French Horn and Chamber Orchestra\, an exquisite serenade that invites listeners into a world of nocturnal imagery and dreams. The highlight of the evening will be the world premiere of &quot\;Behind the Mask\,&quot\; a captivating suite by TJ Huggins exploring themes of mystery and transformation\, promising to leave you spellbound. Dress Code: Embrace the spirit of dreams and adventures by coming in costume or wearing a mask to become part of the theatrical experience! Don&rsquo\;t miss this unforgettable experience full of excitement and lasting memories. Concert is FREE to the public\, donations are suggested and appreciated.
LOCATION:Columbia International University Shortess Chapel 7435 Monticello Rd Columbia SC 29203
UID:e.1644.6668
SEQUENCE:3
DTSTAMP:20260424T091736Z
URL:http://dev.chapinchamber.com/events/details/moonlit-dreams-and-adventures-6668
END:VEVENT

END:VCALENDAR
