BEGIN:VCALENDAR
VERSION:2.0
PRODID:-//ChamberMaster//Event Calendar 2.0//EN
METHOD:PUBLISH
X-PUBLISHED-TTL:P3D
REFRESH-INTERVAL:P3D
CALSCALE:GREGORIAN
BEGIN:VEVENT
DTSTART:20251114T150000Z
DTEND:20251114T233000Z
X-MICROSOFT-CDO-ALLDAYEVENT:FALSE
SUMMARY:Mary Kay Holiday Open House
DESCRIPTION:You're invited to our Annual festive Mary Kay Partners Holiday Open House to all clients and anyone who doesn't already have a Mary Kay Beauty Consultant! Everyone is welcome and bring a friend. Enjoy " Try before you Buy" demonstartions featuring skincare for pre-teen to adults\, customize your skincare needs\, hands and lips treatments\, microdermabrasion\, multi masking\, dermacosmetic skincare\, bath and body care\, fragrances for men and women and trending makeup. Find the perfect gifts for stocking stuffers\, co-workers & boss\, secret santa surprises\, friends and loved ones\, All gifts set are professionally wrapped and read for holiday giving\, beautifully packaged and thoughtfully prepared for the season. Contact your Mary Kay Consultant for your exclusive shopping time frame with her.
X-ALT-DESC;FMTTYPE=text/html:You&#39\;re invited to our Annual festive Mary Kay Partners Holiday Open House to all clients and anyone who doesn&#39\;t already have a Mary Kay Beauty Consultant! Everyone is welcome and bring a friend. Enjoy &quot\; Try before you Buy&quot\; demonstartions featuring skincare for pre-teen to adults\, customize your skincare needs\, hands and lips treatments\, microdermabrasion\, multi masking\, dermacosmetic skincare\, bath and body care\, fragrances for men and women and trending makeup. Find the perfect gifts for stocking stuffers\, co-workers &amp\; boss\, secret santa surprises\, friends and loved ones\, All gifts set are professionally wrapped and read for holiday giving\, beautifully packaged and thoughtfully prepared for the season. Contact your Mary Kay Consultant for your exclusive shopping time frame with her.
LOCATION:Chapin Chamber of Commerce 302 Columbia Ave. Chapin\, SC 29036
UID:e.1644.6678
SEQUENCE:3
DTSTAMP:20260424T073419Z
URL:http://dev.chapinchamber.com/events/details/mary-kay-holiday-open-house-6678
END:VEVENT

END:VCALENDAR
