BEGIN:VCALENDAR
VERSION:2.0
PRODID:-//ChamberMaster//Event Calendar 2.0//EN
METHOD:PUBLISH
X-PUBLISHED-TTL:P3D
REFRESH-INTERVAL:P3D
CALSCALE:GREGORIAN
BEGIN:VEVENT
DTSTART:20240321T153000Z
DTEND:20240321T170000Z
X-MICROSOFT-CDO-ALLDAYEVENT:FALSE
SUMMARY:March Partner Luncheon
DESCRIPTION:How to Be Lucky in Life\n\n \n\nYou don't need a lucky charm to have a life well-lived. Instead\, there is a way to make the most of your days so you can be\, do\, or have everything you've ever wanted. Join local business leader and publisher Daniel Rendelman to discover how decisions determine your destiny. You will learn how a small search for wisdom will help you have more hope and less regret. Like a 3 leaf clover\, there are just 3 simple questions you can ask to give you clarity with your choices. This applicable message will help you both personally and professionally.
X-ALT-DESC;FMTTYPE=text/html:<div class="gmail_default" style="color: rgb(34\, 34\, 34)\; font-family: Arial\, Helvetica\, sans-serif\; font-size: small\; background-color: rgb(255\, 255\, 255)\;"><font color="#0f0f09" face="Sequel Sans\, Helvetica Neue\, Helvetica\, Arial\, sans-serif"><span style="font-size: 14px\;">How to Be Lucky in Life</span></font></div>\n\n<div class="gmail_default" style="color: rgb(34\, 34\, 34)\; font-size: small\; background-color: rgb(255\, 255\, 255)\; font-family: verdana\, sans-serif\;">&nbsp\;</div>\n\n<div class="gmail_default" style="color: rgb(34\, 34\, 34)\; font-size: small\; background-color: rgb(255\, 255\, 255)\; font-family: verdana\, sans-serif\;"><span style="color: rgb(15\, 15\, 9)\; font-family: &quot\;Sequel Sans&quot\;\, &quot\;Helvetica Neue&quot\;\, Helvetica\, Arial\, sans-serif\; font-size: 14px\;">You don&#39\;t need a lucky charm to have a life well-lived. Instead\, there is a way to make the most of your days so you can be\, do\, or have everything you&#39\;ve ever wanted. Join local business leader and publisher Daniel&nbsp\;<span class="il">Rendelman</span>&nbsp\;to discover how decisions determine your destiny. You will learn how a small search for wisdom will help you have more hope and less regret. Like a 3 leaf clover\, there are just 3 simple questions you can ask to give you clarity with your choices. This applicable message will help you both personally and professionally.</span></div>\n
LOCATION:Our Lady of the Lake Catholic Church
UID:e.1644.5595
SEQUENCE:3
DTSTAMP:20260425T174017Z
URL:http://dev.chapinchamber.com/events/details/march-partner-luncheon-5595
END:VEVENT

END:VCALENDAR
