BEGIN:VCALENDAR
VERSION:2.0
PRODID:-//ChamberMaster//Event Calendar 2.0//EN
METHOD:PUBLISH
X-PUBLISHED-TTL:P3D
REFRESH-INTERVAL:P3D
CALSCALE:GREGORIAN
BEGIN:VEVENT
DTSTART:20240320T203000Z
DTEND:20240320T223000Z
X-MICROSOFT-CDO-ALLDAYEVENT:FALSE
SUMMARY:March Business After Hours: Happy Hour
DESCRIPTION:The Greater Chapin Chamber of Commerce is hosting a Business After Hours: Happy Hour event on March 20\, 2024 at Lazy Creek Taphouse. It's a great opportunity for networking\, socializing\, and enjoying drinks in a relaxed atmosphere. You can connect with fellow Chamber partners\, local business owners\, and community leaders while unwinding after a day's work. Don't miss out on the chance to build connections and support local business.
X-ALT-DESC;FMTTYPE=text/html:<span style="color: rgba(51\, 51\, 51\, 0.68)\; font-family: CTSans\, sans-serif\; font-size: 14px\; white-space-collapse: preserve\; background-color: rgb(255\, 255\, 255)\;">The Greater Chapin Chamber of Commerce is hosting a Business After Hours: Happy Hour event on March 20\, 2024 at Lazy Creek Taphouse. It&#39\;s a great opportunity for networking\, socializing\, and enjoying drinks in a relaxed atmosphere. You can connect with fellow Chamber partners\, local business owners\, and community leaders while unwinding after a day&#39\;s work. Don&#39\;t miss out on the chance to build connections and support local business.</span>
LOCATION:LAZY CREEK TAPHOUSE
UID:e.1644.5594
SEQUENCE:3
DTSTAMP:20260425T174210Z
URL:http://dev.chapinchamber.com/events/details/march-business-after-hours-happy-hour-5594
END:VEVENT

END:VCALENDAR
