BEGIN:VCALENDAR
VERSION:2.0
PRODID:-//ChamberMaster//Event Calendar 2.0//EN
METHOD:PUBLISH
X-PUBLISHED-TTL:P3D
REFRESH-INTERVAL:P3D
CALSCALE:GREGORIAN
BEGIN:VEVENT
DTSTART:20240125T163000Z
DTEND:20240125T180000Z
X-MICROSOFT-CDO-ALLDAYEVENT:FALSE
SUMMARY:Lunch & Learn: Small Business in 2024
DESCRIPTION:January 25\, 2024\n\n11:30-1pm\n\nThe Greater Chapin Chamber of Commerce\n\n302 Columbia Ave.\n\nChapin\, SC 29036\n\n \n\nJoin Paul LaRosa\, CEO of 8 Furlong Consulting\, as he talks about small businesses in 2024 and putting your Accounting\, Finances\, Operations\, Sales\, & Marketing all together! Understanding how all facets of your business should work in harmony!
X-ALT-DESC;FMTTYPE=text/html:<p align="center" style="margin: 0px\; padding: 0px\; color: rgb(64\, 63\, 66)\; font-family: Arial\, Verdana\, Helvetica\, sans-serif\; font-size: 14px\; background-color: rgb(255\, 255\, 255)\; text-align: center\;"><span style="font-size: 19px\; color: rgb(28\, 55\, 113)\; font-family: Georgia\, &quot\;Times New Roman&quot\;\, Times\, serif\; font-weight: bold\;">January 25\, 2024</span></p>\n\n<p align="center" style="margin: 0px\; padding: 0px\; color: rgb(64\, 63\, 66)\; font-family: Arial\, Verdana\, Helvetica\, sans-serif\; font-size: 14px\; background-color: rgb(255\, 255\, 255)\; text-align: center\;"><span style="font-size: 19px\; color: rgb(28\, 55\, 113)\; font-family: Georgia\, &quot\;Times New Roman&quot\;\, Times\, serif\; font-weight: bold\;">11:30-1pm</span></p>\n\n<p align="center" style="margin: 0px\; padding: 0px\; color: rgb(64\, 63\, 66)\; font-family: Arial\, Verdana\, Helvetica\, sans-serif\; font-size: 14px\; background-color: rgb(255\, 255\, 255)\; text-align: center\;"><span style="color: rgb(28\, 55\, 113)\; font-family: Georgia\, &quot\;Times New Roman&quot\;\, Times\, serif\;">The Greater Chapin Chamber of Commerce</span></p>\n\n<p align="center" style="margin: 0px\; padding: 0px\; color: rgb(64\, 63\, 66)\; font-family: Arial\, Verdana\, Helvetica\, sans-serif\; font-size: 14px\; background-color: rgb(255\, 255\, 255)\; text-align: center\;"><span style="color: rgb(28\, 55\, 113)\; font-family: Georgia\, &quot\;Times New Roman&quot\;\, Times\, serif\;">302 Columbia Ave.</span></p>\n\n<p align="center" style="margin: 0px\; padding: 0px\; color: rgb(64\, 63\, 66)\; font-family: Arial\, Verdana\, Helvetica\, sans-serif\; font-size: 14px\; background-color: rgb(255\, 255\, 255)\; text-align: center\;"><span style="color: rgb(28\, 55\, 113)\; font-family: Georgia\, &quot\;Times New Roman&quot\;\, Times\, serif\;">Chapin\, SC 29036</span></p>\n\n<p align="center" style="margin: 0px\; padding: 0px\; color: rgb(64\, 63\, 66)\; font-family: Arial\, Verdana\, Helvetica\, sans-serif\; font-size: 14px\; background-color: rgb(255\, 255\, 255)\; text-align: center\;">&nbsp\;</p>\n\n<p align="center" style="margin: 0px\; padding: 0px\; color: rgb(64\, 63\, 66)\; font-family: Arial\, Verdana\, Helvetica\, sans-serif\; font-size: 14px\; background-color: rgb(255\, 255\, 255)\; text-align: center\;"><span style="color: rgb(28\, 55\, 113)\; font-family: Georgia\, &quot\;Times New Roman&quot\;\, Times\, serif\; font-size: 15px\;">Join Paul LaRosa\, CEO of 8 Furlong Consulting\, as he talks about small businesses in 2024 and putting your Accounting\, Finances\, Operations\, Sales\, &amp\; Marketing all together! Understanding how all facets of your business should work in harmony!</span></p>\n
LOCATION:
UID:e.1644.5340
SEQUENCE:3
DTSTAMP:20260425T213153Z
URL:http://dev.chapinchamber.com/events/details/lunch-learn-small-business-in-2024-5340
END:VEVENT

END:VCALENDAR
