BEGIN:VCALENDAR
VERSION:2.0
PRODID:-//ChamberMaster//Event Calendar 2.0//EN
METHOD:PUBLISH
X-PUBLISHED-TTL:P3D
REFRESH-INTERVAL:P3D
CALSCALE:GREGORIAN
BEGIN:VEVENT
DTSTART:20240528T160000Z
DTEND:20240528T170000Z
X-MICROSOFT-CDO-ALLDAYEVENT:FALSE
SUMMARY:Lunch & Learn: Buhz!
DESCRIPTION:Let us Introduce ourselves! We are Buhz! We are located here in Chapin and we are developing an app that will revolutionize small businesses' social media efforts. Our app is designed to increase the reach of your social media\, helping your business get noticed.  We are now in the testing phase and would love to show you how it will work. If you own a business or know someone who does and would like to hear more about our project and support our development efforts\, please join us for a "Lunch and Learn" on the  28th\, graciously hosted by the Chapin Chamber of Commerce!
X-ALT-DESC;FMTTYPE=text/html:<br />\n<br />\n<span style="color:#000080\;"><strong><span style="font-size:20px\;"><span style="font-family:times new roman\;">Let us Introduce ourselves! We are Buhz! We are located here in Chapin and we are developing an app that will revolutionize small businesses&#39\; social media efforts. Our app is designed to increase the reach of your social media\, helping your business get noticed.&nbsp\; We are now in the testing phase and would love to show you how it will work. If you own a business or know someone who does and would like to hear more about our project and support our development efforts\, please join us for a &ldquo\;Lunch and Learn&rdquo\; on the&nbsp\; 28th\, graciously hosted by the Chapin Chamber of Commerce!</span></span></strong></span><br />\n&nbsp\;
LOCATION:Greater Chapin Chamber of Commerce 302 Columbia Ave. Chapin\, SC 29036
UID:e.1644.5737
SEQUENCE:3
DTSTAMP:20260425T140540Z
URL:http://dev.chapinchamber.com/events/details/lunch-learn-buhz-5737
END:VEVENT

END:VCALENDAR
