BEGIN:VCALENDAR
VERSION:2.0
PRODID:-//ChamberMaster//Event Calendar 2.0//EN
METHOD:PUBLISH
X-PUBLISHED-TTL:P3D
REFRESH-INTERVAL:P3D
CALSCALE:GREGORIAN
BEGIN:VEVENT
DTSTART:20241129T130000Z
DTEND:20241129T140000Z
X-MICROSOFT-CDO-ALLDAYEVENT:FALSE
SUMMARY:LAST FRIDAY Morning Meeting
DESCRIPTION:Join us on the LAST FRIDAY of the month at Exit Palmetto Realty for a time of community\, coffee\, and networking.  Invite your coworker\, neighbor\, and friends.  This event is open to ALL businesses in the Greater Chapin area like Ballentine. You do not have to be a Chapin Chamber Partner to attend.
X-ALT-DESC;FMTTYPE=text/html:<br />\n<br />\nJoin us on the LAST FRIDAY of the month at Exit Palmetto Realty for a time of community\, coffee\, and networking.&nbsp\; Invite your coworker\, neighbor\, and friends.&nbsp\;&nbsp\;This event is open to ALL businesses in the Greater Chapin area like Ballentine. You do not have to be a Chapin Chamber Partner to attend.&nbsp\;
LOCATION:Exit Palmetto Realty 1720 Dutch Fork Rd. Irmo\, SC 29063
UID:e.1644.5904
SEQUENCE:3
DTSTAMP:20260425T040043Z
URL:http://dev.chapinchamber.com/events/details/last-friday-morning-meeting-11-29-2024-5904
END:VEVENT

END:VCALENDAR
