BEGIN:VCALENDAR
VERSION:2.0
PRODID:-//ChamberMaster//Event Calendar 2.0//EN
METHOD:PUBLISH
X-PUBLISHED-TTL:P3D
REFRESH-INTERVAL:P3D
CALSCALE:GREGORIAN
BEGIN:VEVENT
DTSTART:20240620T113000Z
DTEND:20240620T130000Z
X-MICROSOFT-CDO-ALLDAYEVENT:FALSE
SUMMARY:June Partner BREAKFAST
DESCRIPTION:Join us for our June Partner Breakfast at Town Hall on June 20th.  Biscuits and coffee from Chick-Fil-A Ballentine will be served!  Come hear some great updates on the Town of Chapin with our special guest\, Nicholle Burroughs\, Chapin Town Administrator      \n\n\n\nRegister online at ChapinChamber.com
X-ALT-DESC;FMTTYPE=text/html:Join us for our June Partner Breakfast at Town Hall on June 20th.&nbsp\; Biscuits and coffee from Chick-Fil-A Ballentine will be served!&nbsp\; Come hear some great updates on the Town of Chapin with our special guest\, Nicholle Burroughs\, Chapin Town Administrator&nbsp\;&nbsp\;&nbsp\;&nbsp\;&nbsp\;&nbsp\;<br />\n<br />\nRegister online at ChapinChamber.com&nbsp\;&nbsp\;
LOCATION:Chapin Town Hall 157 Columbia Ave. Chapin\, SC 29036
UID:e.1644.5740
SEQUENCE:3
DTSTAMP:20260425T123612Z
URL:http://dev.chapinchamber.com/events/details/june-partner-breakfast-5740
END:VEVENT

END:VCALENDAR
