BEGIN:VCALENDAR
VERSION:2.0
PRODID:-//ChamberMaster//Event Calendar 2.0//EN
METHOD:PUBLISH
X-PUBLISHED-TTL:P3D
REFRESH-INTERVAL:P3D
CALSCALE:GREGORIAN
BEGIN:VEVENT
DTSTART:20250523T230000Z
DTEND:20250524T010000Z
X-MICROSOFT-CDO-ALLDAYEVENT:FALSE
SUMMARY:Jazz Night in Chapin
DESCRIPTION:Soda City Brass Band brings together modern and traditional sounds found on the streets of New Orleans to you! Come experience the exciting vibes and good feelings of NOLA to COLA Current Band Members:  Mark Rapp: trumpet Dr. Mitch Butler: trombone Brittany Turnipseed: vocals Nick Vlandis: keyboard Todd Edmunds: sousaphone Brendan Bull: drums
X-ALT-DESC;FMTTYPE=text/html:Soda City Brass Band brings together modern and traditional sounds found on the streets of New Orleans to you! Come experience the exciting vibes and good feelings of NOLA to COLA Current Band Members:&nbsp\; Mark Rapp: trumpet Dr. Mitch Butler: trombone Brittany Turnipseed: vocals Nick Vlandis: keyboard Todd Edmunds: sousaphone Brendan Bull: drums
LOCATION:Chapin Theatre Company\, 830 Columbia Ave\, Chapin\, SC 29036
UID:e.1644.6632
SEQUENCE:3
DTSTAMP:20260424T175817Z
URL:http://dev.chapinchamber.com/events/details/jazz-night-in-chapin-6632
END:VEVENT

END:VCALENDAR
