BEGIN:VCALENDAR
VERSION:2.0
PRODID:-//ChamberMaster//Event Calendar 2.0//EN
METHOD:PUBLISH
X-PUBLISHED-TTL:P3D
REFRESH-INTERVAL:P3D
CALSCALE:GREGORIAN
BEGIN:VEVENT
DTSTART:20240118T163000Z
DTEND:20240118T180000Z
X-MICROSOFT-CDO-ALLDAYEVENT:FALSE
SUMMARY:January Partner Luncheon
DESCRIPTION:Join us for our monthly Partner Luncheon as we kick off the new year with Holly Hayes with ISI Consulting. We'll also hear from Lex/Rich School District 5 and enjoy a great meal and networking time together.
X-ALT-DESC;FMTTYPE=text/html:<span style="color: rgb(118\, 118\, 118)\; font-family: &quot\;Open Sans&quot\;\, sans-serif\; font-size: 15px\; background-color: rgb(255\, 255\, 255)\;">Join us for our monthly Partner Luncheon as we kick off the new year with Holly Hayes with ISI Consulting. We&#39\;ll also hear from Lex/Rich School District 5 and enjoy a great meal and networking time together.</span>
LOCATION:Our Lady of the Lake Catholic Church
UID:e.1644.5338
SEQUENCE:3
DTSTAMP:20260425T212055Z
URL:http://dev.chapinchamber.com/events/details/january-partner-luncheon-5338
END:VEVENT

END:VCALENDAR
