BEGIN:VCALENDAR
VERSION:2.0
PRODID:-//ChamberMaster//Event Calendar 2.0//EN
METHOD:PUBLISH
X-PUBLISHED-TTL:P3D
REFRESH-INTERVAL:P3D
CALSCALE:GREGORIAN
BEGIN:VEVENT
DTSTART:20231005T203000Z
DTEND:20231005T223000Z
X-MICROSOFT-CDO-ALLDAYEVENT:FALSE
SUMMARY:Happy Hour at Pro Swing
DESCRIPTION:Busness After Hours at Pro Swing
X-ALT-DESC;FMTTYPE=text/html:Busness After Hours at Pro Swing
LOCATION:105 Snapdragon Drive Chapin SC
UID:e.1644.5314
SEQUENCE:3
DTSTAMP:20260426T023531Z
URL:http://dev.chapinchamber.com/events/details/happy-hour-at-pro-swing-5314
END:VEVENT

END:VCALENDAR
