BEGIN:VCALENDAR
VERSION:2.0
PRODID:-//ChamberMaster//Event Calendar 2.0//EN
METHOD:PUBLISH
X-PUBLISHED-TTL:P3D
REFRESH-INTERVAL:P3D
CALSCALE:GREGORIAN
BEGIN:VEVENT
DTSTART:20240104T130000Z
DTEND:20240104T140000Z
X-MICROSOFT-CDO-ALLDAYEVENT:FALSE
SUMMARY:Greater Chapin Business Watch
DESCRIPTION:Join us for the 2nd Greater Chapin Business Watch where we join forces with the Chapin Police Department to help bring awareness to the security and safety of your business and home. Join us this month as we hear from a security expert with CPI Security. Don't worry - this isn't a sales pitch\, he'll give you practical ways to keep your business and home safe. I hope you can join us!
X-ALT-DESC;FMTTYPE=text/html:<div class="list-item list-item-has-heading" data-focus-method="key" id="1a17a72b" role="listitem" style="box-sizing: border-box\; display: flex\; cursor: auto\; align-items: center\; outline: none\; transition: color 0.15s ease-in-out 0s\, background-color 0.15s ease-in-out 0s\, border-color 0.15s ease-in-out 0s\, box-shadow 0.15s ease-in-out 0s\; user-select: text\; padding: 8px 16px\; color: rgb(51\, 51\, 51)\; font-family: CTSans\, &quot\;Helvetica Neue&quot\;\, Arial\, sans-serif\; font-size: 16px\; background-color: rgb(255\, 255\, 255)\;">\n<div class="list-item-main" style="box-sizing: border-box\; margin: 0px 8px\; line-height: 24px\; flex: 1 1 auto\; overflow: hidden\;">\n<div class="list-item-text" style="box-sizing: border-box\; margin: 0px\; color: rgb(118\, 118\, 118)\; font-family: CTSans\, sans-serif\; font-size: 0.875rem\; line-height: 1.375rem\;">\n<div class="line-clamp-wrapper" style="box-sizing: border-box\; display: -webkit-box\; -webkit-box-orient: vertical\; -webkit-line-clamp: unset\; overflow: hidden\; white-space-collapse: preserve\;">Join us for the 2nd Greater Chapin Business Watch where we join forces with the Chapin Police Department to help bring awareness to the security and safety of your business and home. Join us this month as we hear from a security expert with CPI Security. Don&#39\;t worry - this isn&#39\;t a sales pitch\, he&#39\;ll give you practical ways to keep your business and home safe. I hope you can join us!</div>\n<button class="btn btn-pill btn-link" style="border-radius: 0px\; margin: 0px\; font-family: inherit\; font-size: 14px\; overflow: visible\; appearance: button\; display: inline-flex\; font-weight: 600\; color: rgb(24\, 86\, 237)\; vertical-align: middle\; user-select: none\; border-width: 1px\; border-style: solid\; border-color: transparent\; padding: 0px\; transition: color 0.15s ease-in-out 0s\, background-color 0.15s ease-in-out 0s\, border-color 0.15s ease-in-out 0s\, box-shadow 0.15s ease-in-out 0s\; height: 36px\; text-wrap: nowrap\; align-items: center\; justify-content: center\; cursor: pointer\; background-image: none !important\;" type="button"><br />\n</button></div>\n</div>\n</div>\n\n<div class="list-item list-item-has-heading" id="14635681" role="listitem" style="box-sizing: border-box\; display: flex\; cursor: auto\; align-items: center\; outline: none\; transition: color 0.15s ease-in-out 0s\, background-color 0.15s ease-in-out 0s\, border-color 0.15s ease-in-out 0s\, box-shadow 0.15s ease-in-out 0s\; user-select: text\; padding: 8px 16px\; color: rgb(51\, 51\, 51)\; font-family: CTSans\, &quot\;Helvetica Neue&quot\;\, Arial\, sans-serif\; font-size: 16px\; background-color: rgb(255\, 255\, 255)\;">\n<div class="list-item-main" style="box-sizing: border-box\; margin: 0px 8px\; line-height: 24px\; flex: 1 1 auto\; overflow: hidden\;">&nbsp\;</div>\n</div>\n
LOCATION:Chapin Town Hall
UID:e.1644.5337
SEQUENCE:3
DTSTAMP:20260425T231212Z
URL:http://dev.chapinchamber.com/events/details/greater-chapin-business-watch-5337
END:VEVENT

END:VCALENDAR
