BEGIN:VCALENDAR
VERSION:2.0
PRODID:-//ChamberMaster//Event Calendar 2.0//EN
METHOD:PUBLISH
X-PUBLISHED-TTL:P3D
REFRESH-INTERVAL:P3D
CALSCALE:GREGORIAN
BEGIN:VEVENT
DTSTART:20240207T170000Z
DTEND:20240207T180000Z
X-MICROSOFT-CDO-ALLDAYEVENT:FALSE
SUMMARY:Great Southern Homes: Boykin Hills Grand Opening & Ribbon Cutting
DESCRIPTION:Join us for the Grand Opening and Ribbon Cutting for Great Southern Homes NEWEST community\, Boykin Hills.
X-ALT-DESC;FMTTYPE=text/html:Join us for the Grand Opening and Ribbon Cutting for Great Southern Homes NEWEST community\, Boykin Hills.&nbsp\;
LOCATION:Boykin Hills Subdivision
UID:e.1644.5353
SEQUENCE:3
DTSTAMP:20260425T193343Z
URL:http://dev.chapinchamber.com/events/details/great-southern-homes-boykin-hills-grand-opening-ribbon-cutting-5353
END:VEVENT

END:VCALENDAR
