BEGIN:VCALENDAR
VERSION:2.0
PRODID:-//ChamberMaster//Event Calendar 2.0//EN
METHOD:PUBLISH
X-PUBLISHED-TTL:P3D
REFRESH-INTERVAL:P3D
CALSCALE:GREGORIAN
BEGIN:VEVENT
DTSTART:20260426T200000Z
DTEND:20260426T220000Z
X-MICROSOFT-CDO-ALLDAYEVENT:FALSE
SUMMARY:FROM CLASSIC TO CONCERTANTE
DESCRIPTION:Get ready for a thrilling evening of orchestral music as we journey From Classic to Concertante! The program includes the sparkling and energetic Overture to Donna Diana by Emil von Reznicek\, a brilliant curtain-raiser full of wit and orchestral color\, and the elegant and vital Mozart's Symphony No. 35 "Haffner\," a masterpiece bursting with charm\, brilliance\, and unforgettable melodies. The climax of the evening is Max Bruch's Double Concerto for Violin\, Viola and Orchestra a powerful and expressive work featuring an exciting musical dialogue between our guest soloists: Ari Streisfeld\, Violin and Daniel Sweaney\, Viola. Together with the orchestra\, they bring this vibrant concerto to life in a performance full of energy\, virtuosity\, and musical conversation. Join us for a night of brilliance\, beauty\, and musical excitement. We can't wait to share this unforgettable experience with you!
X-ALT-DESC;FMTTYPE=text/html:Get ready for a thrilling evening of orchestral music as we journey From Classic to Concertante! The program includes the sparkling and energetic Overture to Donna Diana by Emil von Reznicek\, a brilliant curtain-raiser full of wit and orchestral color\, and the elegant and vital Mozart&rsquo\;s Symphony No. 35 &ldquo\;Haffner\,&rdquo\; a masterpiece bursting with charm\, brilliance\, and unforgettable melodies. The climax of the evening is Max Bruch&rsquo\;s Double Concerto for Violin\, Viola and Orchestra&mdash\;a powerful and expressive work featuring an exciting musical dialogue between our guest soloists: Ari Streisfeld\, Violin and Daniel Sweaney\, Viola. Together with the orchestra\, they bring this vibrant concerto to life in a performance full of energy\, virtuosity\, and musical conversation. Join us for a night of brilliance\, beauty\, and musical excitement. We can&rsquo\;t wait to share this unforgettable experience with you!
LOCATION:Columbia International University- Shortess Chapel 7435 Monticello Road\, Columbia
UID:e.1644.6700
SEQUENCE:3
DTSTAMP:20260423T195934Z
URL:http://dev.chapinchamber.com/events/details/from-classic-to-concertante-6700
END:VEVENT

END:VCALENDAR
