BEGIN:VCALENDAR
VERSION:2.0
PRODID:-//ChamberMaster//Event Calendar 2.0//EN
METHOD:PUBLISH
X-PUBLISHED-TTL:P3D
REFRESH-INTERVAL:P3D
CALSCALE:GREGORIAN
BEGIN:VEVENT
DTSTART:20230921T200000Z
DTEND:20230921T223000Z
X-MICROSOFT-CDO-ALLDAYEVENT:FALSE
SUMMARY:Floor Boys Ribbon Cutting
DESCRIPTION:
X-ALT-DESC;FMTTYPE=text/html:
LOCATION:203E Amicks Ferry Road Chapin SC 29036
UID:e.1644.5317
SEQUENCE:3
DTSTAMP:20260426T040548Z
URL:http://dev.chapinchamber.com/events/details/floor-boys-ribbon-cutting-5317
END:VEVENT

END:VCALENDAR
