BEGIN:VCALENDAR
VERSION:2.0
PRODID:-//ChamberMaster//Event Calendar 2.0//EN
METHOD:PUBLISH
X-PUBLISHED-TTL:P3D
REFRESH-INTERVAL:P3D
CALSCALE:GREGORIAN
BEGIN:VEVENT
DTSTART:20241206T130000Z
DTEND:20241206T140000Z
X-MICROSOFT-CDO-ALLDAYEVENT:FALSE
SUMMARY:First Friday Networking
DESCRIPTION:
X-ALT-DESC;FMTTYPE=text/html:
LOCATION:CROOKED CREEK PARK CHAPIN\, SC
UID:e.1644.5918
SEQUENCE:3
DTSTAMP:20260425T035751Z
URL:http://dev.chapinchamber.com/events/details/first-friday-networking-12-06-2024-5918
END:VEVENT

END:VCALENDAR
