BEGIN:VCALENDAR
VERSION:2.0
PRODID:-//ChamberMaster//Event Calendar 2.0//EN
METHOD:PUBLISH
X-PUBLISHED-TTL:P3D
REFRESH-INTERVAL:P3D
CALSCALE:GREGORIAN
BEGIN:VEVENT
DTSTART:20231012T160000Z
DTEND:20231012T170000Z
X-MICROSOFT-CDO-ALLDAYEVENT:FALSE
SUMMARY:First Community Bank Lunch & Learn
DESCRIPTION:Lunch & Learn about Bank Fraud
X-ALT-DESC;FMTTYPE=text/html:Lunch &amp\; Learn about Bank Fraud
LOCATION:Steve Padgett's Honda of Lake Murray 750 Werstern Lane Irmo SC 29063
UID:e.1644.5313
SEQUENCE:3
DTSTAMP:20260426T023519Z
URL:http://dev.chapinchamber.com/events/details/first-community-bank-lunch-learn-5313
END:VEVENT

END:VCALENDAR
