BEGIN:VCALENDAR
VERSION:2.0
PRODID:-//ChamberMaster//Event Calendar 2.0//EN
METHOD:PUBLISH
X-PUBLISHED-TTL:P3D
REFRESH-INTERVAL:P3D
CALSCALE:GREGORIAN
BEGIN:VEVENT
DTSTART:20240215T163000Z
DTEND:20240215T180000Z
X-MICROSOFT-CDO-ALLDAYEVENT:FALSE
SUMMARY:February Partner Luncheon
DESCRIPTION:Join us on Feb 15 for our Partner Luncheon.  \n\nRegistration can be found online at ChapinChamber.com by February 2\, 2024
X-ALT-DESC;FMTTYPE=text/html:Join us on Feb 15 for our Partner Luncheon.&nbsp\;&nbsp\;<br />\nRegistration can be found online at ChapinChamber.com by February 2\, 2024
LOCATION:Our Lady of the Lake
UID:e.1644.5389
SEQUENCE:3
DTSTAMP:20260425T192657Z
URL:http://dev.chapinchamber.com/events/details/february-partner-luncheon-5389
END:VEVENT

END:VCALENDAR
