BEGIN:VCALENDAR
VERSION:2.0
PRODID:-//ChamberMaster//Event Calendar 2.0//EN
METHOD:PUBLISH
X-PUBLISHED-TTL:P3D
REFRESH-INTERVAL:P3D
CALSCALE:GREGORIAN
BEGIN:VEVENT
DTSTART:20231111T190000Z
DTEND:20231111T230000Z
X-MICROSOFT-CDO-ALLDAYEVENT:FALSE
SUMMARY:Family Farm Day
DESCRIPTION:Family Fun Day for Veterans and their families: Fishing\,live music\, food\, crafts\, RTV rides
X-ALT-DESC;FMTTYPE=text/html:Family Fun Day for Veterans and their families: Fishing\,live music\, food\, crafts\, RTV rides
LOCATION:HomePlace Ministries 1065 US HWY 76 Little Mountain SC 29075
UID:e.1644.5328
SEQUENCE:3
DTSTAMP:20260426T022759Z
URL:http://dev.chapinchamber.com/events/details/family-farm-day-5328
END:VEVENT

END:VCALENDAR
