BEGIN:VCALENDAR
VERSION:2.0
PRODID:-//ChamberMaster//Event Calendar 2.0//EN
METHOD:PUBLISH
X-PUBLISHED-TTL:P3D
REFRESH-INTERVAL:P3D
CALSCALE:GREGORIAN
BEGIN:VEVENT
DTSTART:20231210T210000Z
DTEND:20231210T220000Z
X-MICROSOFT-CDO-ALLDAYEVENT:FALSE
SUMMARY:Dutch Fork Choral Society Performance
DESCRIPTION:The Dutch Fork Choral Society announces two performances of our winter concert\, including a mix of familiar Christmas carols\, excerpts from Handel's Messiah\, and some other beautiful music. There just might be a carol sing also for those audience members who may not have time for rehearsals but love the occasional opportunity to sing. Come see us at one of these concerts: Friday\, December 8\, 2023\; 7:00pm\; Lake Murray Presbyterian Church (2721 Dutch Fork Road\, Chapin\, SC 29036) with the Blythewood High School Chorale Sunday\, December 10\, 2023\; 4:00pm\; Mt. Horeb Lutheran Church (101 E. Boundary Street\, Chapin\, SC 29036) Free to the public. (Donations graciously accepted). Kaleb Hilton\, Artistic Director\, and Bradley Fuller\, Collaborative Pianist. Questions? Call Ed Henkler at\n(215) 669-4874\n. See our website dutchforkchoralsociety.com\, email\n\ninfo@dutchforkchoralsociety.com
X-ALT-DESC;FMTTYPE=text/html:<span style="letter-spacing:-0.25pt\;"><span style="font-family:helvetica\,sans-serif\;"><span style="font-size:11.5pt\;">The Dutch Fork Choral Society announces two performances of our winter concert\, including a mix of familiar Christmas carols\, excerpts from Handel&rsquo\;s Messiah\, and some other beautiful music. There just might be a carol sing also for those audience members who may not have time for rehearsals but love the occasional opportunity to sing. Come see us at one of these concerts: Friday\, December 8\, 2023\; 7:00pm\; Lake Murray Presbyterian Church (2721 Dutch Fork Road\, Chapin\, SC 29036) with the Blythewood High School Chorale Sunday\, December 10\, 2023\; 4:00pm\; Mt. Horeb Lutheran Church (101 E. Boundary Street\, Chapin\, SC 29036) Free to the public. (Donations graciously accepted). Kaleb Hilton\, Artistic Director\, and Bradley Fuller\, Collaborative Pianist. Questions? Call Ed Henkler at</span></span></span>\n<div style="color:rgb(34\, 34\, 34)\;font-family:Arial\, Helvetica\, sans-serif\;font-size:small\;"><span style="letter-spacing:-0.25pt\;"><span style="color:black\;"><span style="font-family:helvetica\,sans-serif\;"><span style="font-size:11.5pt\;">(215) 669-4874</span></span></span></span></div>\n<span style="letter-spacing:-0.25pt\;"><span style="font-family:helvetica\,sans-serif\;"><span style="font-size:11.5pt\;">. See our website&nbsp\;<a data-saferedirecturl="https://www.google.com/url?q=http://dutchforkchoralsociety.com/&amp\;source=gmail&amp\;ust=1701375010393000&amp\;usg=AOvVaw1jeliKuKVFV8h2aW1toWZS" href="http://dutchforkchoralsociety.com/" style="color:rgb(17\, 85\, 204)\;" target="_blank">dutchforkchoralsociety.com</a>\, email</span></span></span>\n\n<div style="color:rgb(34\, 34\, 34)\;font-family:Arial\, Helvetica\, sans-serif\;font-size:small\;"><span style="letter-spacing:-0.25pt\;"><span style="color:black\;"><span style="font-family:helvetica\,sans-serif\;"><span style="font-size:11.5pt\;"><a href="mailto:info@dutchforkchoralsociety.com" style="color:rgb(17\, 85\, 204)\;" target="_blank">info@dutchforkchoralsociety.<wbr />com</a></span></span></span></span></div>\n
LOCATION:Mt. Horeb Lutheran Church
UID:e.1644.5335
SEQUENCE:3
DTSTAMP:20260426T004508Z
URL:http://dev.chapinchamber.com/events/details/dutch-fork-choral-society-performance-5335
END:VEVENT

END:VCALENDAR
