BEGIN:VCALENDAR
VERSION:2.0
PRODID:-//ChamberMaster//Event Calendar 2.0//EN
METHOD:PUBLISH
X-PUBLISHED-TTL:P3D
REFRESH-INTERVAL:P3D
CALSCALE:GREGORIAN
BEGIN:VEVENT
DTSTART:20251009T233000Z
DTEND:20251019T013000Z
X-MICROSOFT-CDO-ALLDAYEVENT:FALSE
SUMMARY:Dracula: A Comedy of Terrors
DESCRIPTION:DRACULA\, A COMEDY OF TERRORS gives Bram Stoker's horror classic a comic makeover in this lightning-fast reimagining that features a Gen Z pansexual Count Dracula in the midst of an existential crisis. With a cast of five switching costumes and roles at the drop of a hat\, this 90-minute freewheeling send-up plays with sexuality and gender norms in the spirit of Monty Python and Mel Brooks   and celebrates goth\, camp\, and the magic of live theatre itself.
X-ALT-DESC;FMTTYPE=text/html:DRACULA\, A COMEDY OF TERRORS gives Bram Stoker&rsquo\;s horror classic a comic makeover in this lightning-fast reimagining that features a Gen Z pansexual Count Dracula in the midst of an existential crisis. With a cast of five switching costumes and roles at the drop of a hat\, this 90-minute freewheeling send-up plays with sexuality and gender norms in the spirit of Monty Python and Mel Brooks &ndash\; and celebrates goth\, camp\, and the magic of live theatre itself.
LOCATION:Chapin Theatre Company\, 830 Columbia Ave\, Chapin\, SC 29036
UID:e.1644.6647
SEQUENCE:3
DTSTAMP:20260424T090955Z
URL:http://dev.chapinchamber.com/events/details/dracula-a-comedy-of-terrors-6647
END:VEVENT

END:VCALENDAR
