BEGIN:VCALENDAR
VERSION:2.0
PRODID:-//ChamberMaster//Event Calendar 2.0//EN
METHOD:PUBLISH
X-PUBLISHED-TTL:P3D
REFRESH-INTERVAL:P3D
CALSCALE:GREGORIAN
BEGIN:VEVENT
DTSTART:20250606T230000Z
DTEND:20250607T003000Z
X-MICROSOFT-CDO-ALLDAYEVENT:FALSE
SUMMARY:Comedy Night in Chapin
DESCRIPTION:Come out for a night of fun and laughter\, as Chapin Theatre Company presents its first\, Comedy Night In Chapin. This is a 90 minute\, PG13 show featuring four of Columbia's  finest comics. It's only $20 and it includes one beverage of your choice.
X-ALT-DESC;FMTTYPE=text/html:Come out for a night of fun and laughter\, as Chapin Theatre Company presents its first\, Comedy Night In Chapin. This is a 90 minute\, PG13 show featuring four of Columbia&#39\;s&nbsp\; finest comics. It&rsquo\;s only $20 and it includes one beverage of your choice.
LOCATION:Chapin Theatre Company\, 830 Columbia Ave\, Chapin\, SC 29036
UID:e.1644.6638
SEQUENCE:3
DTSTAMP:20260424T160919Z
URL:http://dev.chapinchamber.com/events/details/comedy-night-in-chapin-6638
END:VEVENT

END:VCALENDAR
