BEGIN:VCALENDAR
VERSION:2.0
PRODID:-//ChamberMaster//Event Calendar 2.0//EN
METHOD:PUBLISH
X-PUBLISHED-TTL:P3D
REFRESH-INTERVAL:P3D
CALSCALE:GREGORIAN
BEGIN:VEVENT
DTSTART:20251207T210000Z
DTEND:20251207T230000Z
X-MICROSOFT-CDO-ALLDAYEVENT:FALSE
SUMMARY:Columbia Celebrates!
DESCRIPTION:Celebrate the Holidays with the Palmetto Chamber Orchestra! Whether you're celebrating Hanukkah\, Christmas\, Kwanzaa\, or another seasonal holiday\, the Palmetto Chamber Orchestra invites you to share in the joy of music that makes this time of year truly special. From beloved classical favorites to festive holiday tunes\, this concert promises a delightful experience for the entire family. When was the last time you heard a bagpipe soloist performing with an orchestra? Probably never so you wouldn't want to miss this one-of-a-kind musical celebration! Join us as we present "COLUMBIA CELEBRATES!   The Annual Holiday POPS" ?? Sunday\, December 7\, at 4:00 PM ?? Incarnation Lutheran Church\, Columbia\, SC To ensure the best experience for you and your family\, please purchase your tickets in advance. Online reservations are fast\, convenient\, and will save you time during admission on the day of the concert.
X-ALT-DESC;FMTTYPE=text/html:Celebrate the Holidays with the Palmetto Chamber Orchestra! Whether you&rsquo\;re celebrating Hanukkah\, Christmas\, Kwanzaa\, or another seasonal holiday\, the Palmetto Chamber Orchestra invites you to share in the joy of music that makes this time of year truly special. From beloved classical favorites to festive holiday tunes\, this concert promises a delightful experience for the entire family. When was the last time you heard a bagpipe soloist performing with an orchestra? Probably never&mdash\;so you wouldn&rsquo\;t want to miss this one-of-a-kind musical celebration! Join us as we present &ldquo\;COLUMBIA CELEBRATES! &ndash\; The Annual Holiday POPS&rdquo\; ?? Sunday\, December 7\, at 4:00 PM ?? Incarnation Lutheran Church\, Columbia\, SC To ensure the best experience for you and your family\, please purchase your tickets in advance. Online reservations are fast\, convenient\, and will save you time during admission on the day of the concert.
LOCATION:Incarnation Lutheran Church 3005 Devine Street Columbia SC 29205
UID:e.1644.6683
SEQUENCE:3
DTSTAMP:20260424T053709Z
URL:http://dev.chapinchamber.com/events/details/columbia-celebrates-12-07-2025-6683
END:VEVENT

END:VCALENDAR
