BEGIN:VCALENDAR
VERSION:2.0
PRODID:-//ChamberMaster//Event Calendar 2.0//EN
METHOD:PUBLISH
X-PUBLISHED-TTL:P3D
REFRESH-INTERVAL:P3D
CALSCALE:GREGORIAN
BEGIN:VEVENT
DTSTART:20240725T233000Z
DTEND:20240804T210000Z
X-MICROSOFT-CDO-ALLDAYEVENT:FALSE
SUMMARY:Cinderella
DESCRIPTION:The timeless enchantment of a magical fairy tale is reborn in this version of Rodgers and Hammerstein's Cinderella. Adapted for the stage with great warmth and hilarity\, this romantic fairy tale will warm the hearts of children and adults alike.
X-ALT-DESC;FMTTYPE=text/html:The timeless enchantment of a magical fairy tale is reborn in this version of Rodgers and Hammerstein&#39\;s Cinderella. Adapted for the stage with great warmth and hilarity\, this romantic fairy tale will warm the hearts of children and adults alike.
LOCATION:Harbison Theatre\, 7300 College Street\, Irmo\, SC 29063
UID:e.1644.5597
SEQUENCE:3
DTSTAMP:20260425T103017Z
URL:http://dev.chapinchamber.com/events/details/cinderella-5597
END:VEVENT

END:VCALENDAR
