BEGIN:VCALENDAR
VERSION:2.0
PRODID:-//ChamberMaster//Event Calendar 2.0//EN
METHOD:PUBLISH
X-PUBLISHED-TTL:P3D
REFRESH-INTERVAL:P3D
CALSCALE:GREGORIAN
BEGIN:VEVENT
DTSTART;VALUE=DATE:20250901
DTEND;VALUE=DATE:20250902
TRANSP:TRANSPARENT
X-MICROSOFT-CDO-ALLDAYEVENT:TRUE
SUMMARY:Chapin Labor Day Festival and Parade
DESCRIPTION:Chapin's Annual Labor Day Festival & Parade
X-ALT-DESC;FMTTYPE=text/html:Chapin&#39\;s Annual Labor Day Festival &amp\; Parade
LOCATION:Downtown Chapin and areas
UID:e.1644.6663
SEQUENCE:3
DTSTAMP:20260424T111743Z
URL:http://dev.chapinchamber.com/events/details/chapin-labor-day-festival-and-parade-6663
END:VEVENT

END:VCALENDAR
