BEGIN:VCALENDAR
VERSION:2.0
PRODID:-//ChamberMaster//Event Calendar 2.0//EN
METHOD:PUBLISH
X-PUBLISHED-TTL:P3D
REFRESH-INTERVAL:P3D
CALSCALE:GREGORIAN
BEGIN:VEVENT
DTSTART:20251115T140000Z
DTEND:20251115T200000Z
X-MICROSOFT-CDO-ALLDAYEVENT:FALSE
SUMMARY:Chapin Bands Holiday Market
DESCRIPTION:Start your holiday shopping early with a day filled with holiday cheer at the 9th Annual Chapin Bands Holiday Market at Chapin High School! Event Highlights: 100+ Craft Vendors: Discover unique handmade gifts and crafts from local businesses. Food Trucks: Enjoy delicious eats to satisfy every craving. Holiday Music: Experience live performances by the Chapin High Jazz Band. Silent Auction: Bid on amazing items with all proceeds supporting the Chapin Bands Booster Club and the Chapin Band Programs. Bring your family and friends for a fun-filled day of shopping\, eating\, and festive music. Don't miss out on this wonderful community event! Proudly Sponsored by the Town of Chapin.
X-ALT-DESC;FMTTYPE=text/html:Start your holiday shopping early with a day filled with holiday cheer at the 9th Annual Chapin Bands Holiday Market at Chapin High School! Event Highlights: 100+ Craft Vendors: Discover unique handmade gifts and crafts from local businesses. Food Trucks: Enjoy delicious eats to satisfy every craving. Holiday Music: Experience live performances by the Chapin High Jazz Band. Silent Auction: Bid on amazing items with all proceeds supporting the Chapin Bands Booster Club and the Chapin Band Programs. Bring your family and friends for a fun-filled day of shopping\, eating\, and festive music. Don&rsquo\;t miss out on this wonderful community event! Proudly Sponsored by the Town of Chapin.
LOCATION:Chapin High School
UID:e.1644.6667
SEQUENCE:3
DTSTAMP:20260424T073450Z
URL:http://dev.chapinchamber.com/events/details/chapin-bands-holiday-market-6667
END:VEVENT

END:VCALENDAR
